BEGIN:VCALENDAR
VERSION:2.0
PRODID:-//Guy’s Cliffe Walled Garden - ECPv6.15.11//NONSGML v1.0//EN
CALSCALE:GREGORIAN
METHOD:PUBLISH
X-WR-CALNAME:Guy’s Cliffe Walled Garden
X-ORIGINAL-URL:https://guyscliffewalledgarden.org.uk
X-WR-CALDESC:Events for Guy’s Cliffe Walled Garden
REFRESH-INTERVAL;VALUE=DURATION:PT1H
X-Robots-Tag:noindex
X-PUBLISHED-TTL:PT1H
BEGIN:VTIMEZONE
TZID:Europe/London
BEGIN:DAYLIGHT
TZOFFSETFROM:+0000
TZOFFSETTO:+0100
TZNAME:BST
DTSTART:20250330T010000
END:DAYLIGHT
BEGIN:STANDARD
TZOFFSETFROM:+0100
TZOFFSETTO:+0000
TZNAME:GMT
DTSTART:20251026T010000
END:STANDARD
BEGIN:DAYLIGHT
TZOFFSETFROM:+0000
TZOFFSETTO:+0100
TZNAME:BST
DTSTART:20260329T010000
END:DAYLIGHT
BEGIN:STANDARD
TZOFFSETFROM:+0100
TZOFFSETTO:+0000
TZNAME:GMT
DTSTART:20261025T010000
END:STANDARD
BEGIN:DAYLIGHT
TZOFFSETFROM:+0000
TZOFFSETTO:+0100
TZNAME:BST
DTSTART:20270328T010000
END:DAYLIGHT
BEGIN:STANDARD
TZOFFSETFROM:+0100
TZOFFSETTO:+0000
TZNAME:GMT
DTSTART:20271031T010000
END:STANDARD
END:VTIMEZONE
BEGIN:VEVENT
DTSTART;TZID=Europe/London:20260719T103000
DTEND;TZID=Europe/London:20260719T153000
DTSTAMP:20260422T135554
CREATED:20260421T175805Z
LAST-MODIFIED:20260421T180529Z
UID:788-1784457000-1784475000@guyscliffewalledgarden.org.uk
SUMMARY:National Garden Scheme
DESCRIPTION:Guys Cliffe Walled Garden has been proudly supporting the National Garden Scheme for the past 10 years. The garden has a wonderfully warm and welcoming atmosphere\, inviting you to explore its rich history\, beautiful buildings\, and an impressive array of fruit\, flowers and vegetables — including many heritage varieties lovingly planted throughout the grounds. Tea\, coffee and cake will also be available on the day.
URL:https://guyscliffewalledgarden.org.uk/event/788/
LOCATION:Guy’s Cliffe Walled Garden\, Coventry Road\, Guy’s Cliffe\, Warwick CV34 5FJ\, Warwick\, CV34 5FJ\, United Kingdom
CATEGORIES:July
ATTACH;FMTTYPE=image/jpeg:https://guyscliffewalledgarden.org.uk/wp-content/uploads/2025/05/Open-Garden.jpg
ORGANIZER;CN="Guy%E2%80%99s Cliffe Walled Garden":MAILTO:trustees@guyscliffewalledgarden.org.uk
END:VEVENT
END:VCALENDAR